BEGIN:VCALENDAR
METHOD:PUBLISH
VERSION:2.0
PRODID:-//Eventilla iCal Syndication//NONSGML Liana//EN
BEGIN:VEVENT
UID:d1z7e@eventilla.com
DTSTAMP:20230504T110000Z
DTSTART:20230504T110000Z
DTEND:20230504T120000Z
SUMMARY:Tieteeseen perustuvat luontotavoitteet -ohjelman lanseeraustilaisuus
DESCRIPTION:Tervetuloa uuden koulutusohjelman lanseeraustilaisuuteen!\nTässä online-tilaisuudessa pääset tutustumaan Tieteeseen perustuvat luontotavoitteet -ohjelman tarjontaan.\nScience Based Targets Networkin toukokuussa julkaistava viitekehys luontotavoitteiden asettamiseksi on herättänyt jo ennen julkaisua suurta kiinnostusta ja sen odotetaan muodostuvan yritysten luontotyön kulmakiveksi sisaraloitteensa SBTi:n tapaan. UN Global Compact Suomi lanseeraa koulutusohjelman\, jossa yritykset pääsevät asiantuntijoiden johdolla tutustumaan SBTN-viitekehykseen ja sen tuomiin mahdollisuuksiin. Ohjelma rakentuu Global Compactin globaalin koulutusohjelmakonseptin pohjalle\, ja sisältää itseopiskelua\, vertaisoppimista ja asiantuntijatukea.\nKuulemme tilaisuudessa tervehdyksen ympäristöministeriöltä ja Reiman kokemuksia SBTN:n liittyen. Lisäksi kerromme\, miten ohjelman avulla voimme tukea yrityksiä SBTN-kehyksen käyttöönotossa.\nPuhujat:\nTarja Haaranen\, ylijohtaja\, luontoympäristöosasto\, ympäristöministeriö\nMirka Vesala\, CSR specialist\, Reima\nKaroliina Koistila\, Programme Manager\, UN Global Compact Suomi\n \nTilaisuus on avoin kaikille ja se tallennetaan. Tervetuloa!
LOCATION:Online
URL:http://tapahtumat.globalcompact.fi/sbtn
END:VEVENT
END:VCALENDAR
